BEGIN:VCALENDAR
VERSION:2.0
PRODID:-//American College Dance Association - ECPv6.15.20//NONSGML v1.0//EN
CALSCALE:GREGORIAN
METHOD:PUBLISH
X-WR-CALNAME:American College Dance Association
X-ORIGINAL-URL:https://www.acda.dance
X-WR-CALDESC:Events for American College Dance Association
REFRESH-INTERVAL;VALUE=DURATION:PT1H
X-Robots-Tag:noindex
X-PUBLISHED-TTL:PT1H
BEGIN:VTIMEZONE
TZID:America/New_York
BEGIN:DAYLIGHT
TZOFFSETFROM:-0500
TZOFFSETTO:-0400
TZNAME:EDT
DTSTART:20250309T070000
END:DAYLIGHT
BEGIN:STANDARD
TZOFFSETFROM:-0400
TZOFFSETTO:-0500
TZNAME:EST
DTSTART:20251102T060000
END:STANDARD
BEGIN:DAYLIGHT
TZOFFSETFROM:-0500
TZOFFSETTO:-0400
TZNAME:EDT
DTSTART:20260308T070000
END:DAYLIGHT
BEGIN:STANDARD
TZOFFSETFROM:-0400
TZOFFSETTO:-0500
TZNAME:EST
DTSTART:20261101T060000
END:STANDARD
BEGIN:DAYLIGHT
TZOFFSETFROM:-0500
TZOFFSETTO:-0400
TZNAME:EDT
DTSTART:20270314T070000
END:DAYLIGHT
BEGIN:STANDARD
TZOFFSETFROM:-0400
TZOFFSETTO:-0500
TZNAME:EST
DTSTART:20271107T060000
END:STANDARD
END:VTIMEZONE
BEGIN:VEVENT
DTSTART;TZID=America/New_York:20260424T150000
DTEND;TZID=America/New_York:20260424T163000
DTSTAMP:20260423T102248
CREATED:20250730T181129Z
LAST-MODIFIED:20260129T203050Z
UID:14578-1777042800-1777048200@www.acda.dance
SUMMARY:Screendance Workshop “Keeping the Human in the Virtual” Led by Ana Sanchez-Colberg
DESCRIPTION:Ana offers her perspective as a film maker on the idea of ‘decolonization’ as a necessary aspect of the paradigm shift towards digitality and how it affects dance on screen processes. Sanchez Colberg proposes that ‘decolonization’ goes beyond  content engagement and must include ways to shape and determine methodologies\, technologies and resources necessary to be political participants in the digital realm.  We will explore strategies and approaches that may open up a wider consideration of the concept in relation to dance on screen making. \nClick Here to Register \nLearn More About ACDA Screendance Here
URL:https://www.acda.dance/?tribe_events=acda-screendance-workshop-3-more-info-coming-soon
END:VEVENT
BEGIN:VEVENT
DTSTART;VALUE=DATE:20260506
DTEND;VALUE=DATE:20260507
DTSTAMP:20260423T102248
CREATED:20250909T184024Z
LAST-MODIFIED:20250909T184144Z
UID:14885-1778025600-1778111999@www.acda.dance
SUMMARY:At-Large Virtual Adjudication (ALVA) Registration Deadline
DESCRIPTION:This deadline is firm. No registrations will be accepted after this date.
URL:https://www.acda.dance/?tribe_events=at-large-virtual-adjudication-alva-registration-deadline
END:VEVENT
BEGIN:VEVENT
DTSTART;VALUE=DATE:20260513
DTEND;VALUE=DATE:20260514
DTSTAMP:20260423T102248
CREATED:20250730T180340Z
LAST-MODIFIED:20250730T180444Z
UID:14570-1778630400-1778716799@www.acda.dance
SUMMARY:At-Large Virtual Adjudication (ALVA) Submission Deadline
DESCRIPTION:This deadline is firm. No submissions will be accepted after this date.
URL:https://www.acda.dance/?tribe_events=at-large-virtual-adjudication-alva-submission-deadline
END:VEVENT
BEGIN:VEVENT
DTSTART;TZID=America/New_York:20260601T080000
DTEND;TZID=America/New_York:20260605T180000
DTSTAMP:20260423T102248
CREATED:20251003T152927Z
LAST-MODIFIED:20251003T153050Z
UID:14934-1780300800-1780682400@www.acda.dance
SUMMARY:ACDA National Board Meeting: Pace University
DESCRIPTION:Closed meetings for ACDA Board members only. \n\nJune 1-2\, 2026: Executive Committee Only\nJune 3\, 2026: Regional Directors (morning) | Full Board (afternoon)\nJune 4-5\, 2026: Full Board (end time 6pm)\n\n 
URL:https://www.acda.dance/?tribe_events=acda-national-board-meeting
LOCATION:Pace University
END:VEVENT
END:VCALENDAR